BEGIN:VCALENDAR
VERSION:2.0
PRODID:-//Nottingham Civic Society - ECPv6.15.20//NONSGML v1.0//EN
CALSCALE:GREGORIAN
METHOD:PUBLISH
X-ORIGINAL-URL:https://nottinghamcivicsociety.org.uk
X-WR-CALDESC:Events for Nottingham Civic Society
REFRESH-INTERVAL;VALUE=DURATION:PT1H
X-Robots-Tag:noindex
X-PUBLISHED-TTL:PT1H
BEGIN:VTIMEZONE
TZID:UTC
BEGIN:STANDARD
TZOFFSETFROM:+0000
TZOFFSETTO:+0000
TZNAME:UTC
DTSTART:20250101T000000
END:STANDARD
END:VTIMEZONE
BEGIN:VEVENT
DTSTART;TZID=UTC:20260210T193000
DTEND;TZID=UTC:20260210T210000
DTSTAMP:20260423T171527
CREATED:20251125T165632Z
LAST-MODIFIED:20251125T165632Z
UID:1855-1770751800-1770757200@nottinghamcivicsociety.org.uk
SUMMARY:Caring For Our Past
DESCRIPTION:Toby Ebbs of Nottingham City Historic Buildings Trust focuses on care and neglect of the city’s historic buildings.
URL:https://nottinghamcivicsociety.org.uk/event/caring-for-our-past/
LOCATION:Mechanics Institute\, North Sherwood Street\, Nottingham\, United Kingdom
ATTACH;FMTTYPE=image/jpeg:https://nottinghamcivicsociety.org.uk/wp-content/uploads/2025/11/Heathcoat-Street-east-side-No.16-Peoples-Hall-Library-Reading-Room-in-1894-1750-extended-in-1854-Grade-II-star-listed-scaled.jpg
END:VEVENT
BEGIN:VEVENT
DTSTART;TZID=UTC:20260310T193000
DTEND;TZID=UTC:20260310T210000
DTSTAMP:20260423T171527
CREATED:20251125T165807Z
LAST-MODIFIED:20260118T185627Z
UID:1857-1773171000-1773176400@nottinghamcivicsociety.org.uk
SUMMARY:Trent Bridge
DESCRIPTION:Mick Barrett traces the long history of our major river crossing.
URL:https://nottinghamcivicsociety.org.uk/event/trent-bridge/
LOCATION:Mechanics Institute\, North Sherwood Street\, Nottingham\, United Kingdom
ATTACH;FMTTYPE=image/jpeg:https://nottinghamcivicsociety.org.uk/wp-content/uploads/2025/11/Trent-Bridge-1825-2JR-Walker.jpg
END:VEVENT
BEGIN:VEVENT
DTSTART;TZID=UTC:20260414T193000
DTEND;TZID=UTC:20260414T210000
DTSTAMP:20260423T171527
CREATED:20251125T170619Z
LAST-MODIFIED:20260118T182553Z
UID:1859-1776195000-1776200400@nottinghamcivicsociety.org.uk
SUMMARY:The Ken Brand Lecture - Senses\, Stories and Situations
DESCRIPTION:Over some 30 years\, Nottingham architect Julian Marsh and his practice have completed many award-winning buildings in Nottingham and elsewhere. Julian will take us through his principles and practice..
URL:https://nottinghamcivicsociety.org.uk/event/the-ken-brand-lecture-to-list-or-not-to-list/
LOCATION:Mechanics Institute\, North Sherwood Street\, Nottingham\, United Kingdom
ATTACH;FMTTYPE=image/jpeg:https://nottinghamcivicsociety.org.uk/wp-content/uploads/2025/11/Highfields.jpg
END:VEVENT
BEGIN:VEVENT
DTSTART;TZID=UTC:20260512T190000
DTEND;TZID=UTC:20260512T210000
DTSTAMP:20260423T171527
CREATED:20251125T171049Z
LAST-MODIFIED:20251125T171126Z
UID:1861-1778612400-1778619600@nottinghamcivicsociety.org.uk
SUMMARY:Annual General Meeting - Talk: 50th Anniversary of the Castle Excavations
DESCRIPTION:Andrew Hamilton talks about the Nottingham Castle excavations which took place 50 years ago.
URL:https://nottinghamcivicsociety.org.uk/event/annual-general-meeting-talk-50th-anniversary-of-the-castle-excavations/
LOCATION:Mechanics Institute\, North Sherwood Street\, Nottingham\, United Kingdom
ATTACH;FMTTYPE=image/jpeg:https://nottinghamcivicsociety.org.uk/wp-content/uploads/2025/11/Nottingham-Castle-Middle-Bailey-Wall-Two-Towers-Wall-1171-East-Tower-1250-West-Tower-1460-Grade-II-listed-scaled.jpg
END:VEVENT
BEGIN:VEVENT
DTSTART;TZID=UTC:20261013T193000
DTEND;TZID=UTC:20261013T210000
DTSTAMP:20260423T171527
CREATED:20260118T184609Z
LAST-MODIFIED:20260118T184609Z
UID:1914-1791919800-1791925200@nottinghamcivicsociety.org.uk
SUMMARY:Nottingham North and South
DESCRIPTION:Kurt Hatton and Graham Woodward explore Basford and Clifton\, their origins\, their development\, their character\, and what they are today.
URL:https://nottinghamcivicsociety.org.uk/event/nottingham-north-and-south/
LOCATION:Mechanics Institute\, North Sherwood Street\, Nottingham\, United Kingdom
ATTACH;FMTTYPE=image/jpeg:https://nottinghamcivicsociety.org.uk/wp-content/uploads/2026/01/Basford-Clifton-scaled.jpg
END:VEVENT
BEGIN:VEVENT
DTSTART;TZID=UTC:20261110T193000
DTEND;TZID=UTC:20261110T210000
DTSTAMP:20260423T171527
CREATED:20260119T133959Z
LAST-MODIFIED:20260119T133959Z
UID:1918-1794339000-1794344400@nottinghamcivicsociety.org.uk
SUMMARY:On The Waterfront
DESCRIPTION:Nottingham’s Riverside is taking on a new look\, with the Waterside Bridge and Trent Basin housing.   Blueprint developers will discuss future plans for the area.
URL:https://nottinghamcivicsociety.org.uk/event/on-the-waterfront/
LOCATION:Mechanics Institute\, North Sherwood Street\, Nottingham\, United Kingdom
ATTACH;FMTTYPE=image/jpeg:https://nottinghamcivicsociety.org.uk/wp-content/uploads/2026/01/Trent-Bridge-from-the-Air-scaled.jpg
END:VEVENT
BEGIN:VEVENT
DTSTART;TZID=UTC:20261208T193000
DTEND;TZID=UTC:20261208T210000
DTSTAMP:20260423T171527
CREATED:20260119T134547Z
LAST-MODIFIED:20260119T134829Z
UID:1921-1796758200-1796763600@nottinghamcivicsociety.org.uk
SUMMARY:Christmas Cheer!
DESCRIPTION:Members of the Nottingham branch of the Campaign for Real Ale take us on a tour of Nottingham’s historic and quirky pubs.
URL:https://nottinghamcivicsociety.org.uk/event/christmas-cheer/
LOCATION:Mechanics Institute\, North Sherwood Street\, Nottingham\, United Kingdom
ATTACH;FMTTYPE=image/jpeg:https://nottinghamcivicsociety.org.uk/wp-content/uploads/2026/01/St-Nicholas-Street-Salutation-Inn-scaled.jpg
END:VEVENT
END:VCALENDAR