BEGIN:VCALENDAR
VERSION:2.0
PRODID:-//Nottingham Civic Society - ECPv6.15.20//NONSGML v1.0//EN
CALSCALE:GREGORIAN
METHOD:PUBLISH
X-WR-CALNAME:Nottingham Civic Society
X-ORIGINAL-URL:https://nottinghamcivicsociety.org.uk
X-WR-CALDESC:Events for Nottingham Civic Society
REFRESH-INTERVAL;VALUE=DURATION:PT1H
X-Robots-Tag:noindex
X-PUBLISHED-TTL:PT1H
BEGIN:VTIMEZONE
TZID:UTC
BEGIN:STANDARD
TZOFFSETFROM:+0000
TZOFFSETTO:+0000
TZNAME:UTC
DTSTART:20240101T000000
END:STANDARD
END:VTIMEZONE
BEGIN:VEVENT
DTSTART;TZID=UTC:20260113T193000
DTEND;TZID=UTC:20260113T210000
DTSTAMP:20260423T210646
CREATED:20251125T165357Z
LAST-MODIFIED:20260105T173657Z
UID:1853-1768332600-1768338000@nottinghamcivicsociety.org.uk
SUMMARY:Nottingham - Fact or Fiction?
DESCRIPTION:Graham Woodward looks in detail at some of Nottingham’s myths and legends.
URL:https://nottinghamcivicsociety.org.uk/event/nottinghams-world-war-i-zeppelin-raid/
LOCATION:Mechanics Institute\, North Sherwood Street\, Nottingham\, United Kingdom
ATTACH;FMTTYPE=image/jpeg:https://nottinghamcivicsociety.org.uk/wp-content/uploads/2025/11/fact-or-fiction2A.jpg
END:VEVENT
BEGIN:VEVENT
DTSTART;TZID=UTC:20251209T193000
DTEND;TZID=UTC:20251209T210000
DTSTAMP:20260423T210646
CREATED:20250324T211957Z
LAST-MODIFIED:20250326T205044Z
UID:1735-1765308600-1765314000@nottinghamcivicsociety.org.uk
SUMMARY:The Meadows - Southside Story
DESCRIPTION:Graham Woodward takes us through the fascinating history of the Meadows.
URL:https://nottinghamcivicsociety.org.uk/event/the-meadows-southside-story/
LOCATION:Mechanics Institute\, North Sherwood Street\, Nottingham\, United Kingdom
ATTACH;FMTTYPE=image/jpeg:https://nottinghamcivicsociety.org.uk/wp-content/uploads/2025/03/meadowscrocus_01-scaled.jpg
END:VEVENT
BEGIN:VEVENT
DTSTART;TZID=UTC:20251111T193000
DTEND;TZID=UTC:20251111T210000
DTSTAMP:20260423T210646
CREATED:20250324T211312Z
LAST-MODIFIED:20251027T113128Z
UID:1731-1762889400-1762894800@nottinghamcivicsociety.org.uk
SUMMARY:The Leen: Nottingham's 'Other' River
DESCRIPTION:Dr David Beckingham and Dr Rachel Dishington\, curators of the University of Nottingham’s new exhibition at the Lakeside Arts Pavilion\, will describe the ongoing history and life of the city’s important\, but sometimes overlooked\, waterway.
URL:https://nottinghamcivicsociety.org.uk/event/what-makes-a-listed-building/
LOCATION:Mechanics Institute\, North Sherwood Street\, Nottingham\, United Kingdom
ATTACH;FMTTYPE=image/jpeg:https://nottinghamcivicsociety.org.uk/wp-content/uploads/2025/03/53-Mill-Lane-Bestwood-Village-River-Leen-looking-downstream-scaled.jpg
END:VEVENT
BEGIN:VEVENT
DTSTART;TZID=UTC:20251014T193000
DTEND;TZID=UTC:20251014T210000
DTSTAMP:20260423T210646
CREATED:20250324T210343Z
LAST-MODIFIED:20250324T210931Z
UID:1726-1760470200-1760475600@nottinghamcivicsociety.org.uk
SUMMARY:Standing In This Place
DESCRIPTION:The sculptor Rachel Carter describes the inspiration and the story behind her new creation in the Broad Marsh Green Heart.
URL:https://nottinghamcivicsociety.org.uk/event/standing-in-this-place/
LOCATION:Mechanics Institute\, North Sherwood Street\, Nottingham\, United Kingdom
ATTACH;FMTTYPE=image/jpeg:https://nottinghamcivicsociety.org.uk/wp-content/uploads/2025/03/standthisplace-scaled.jpg
END:VEVENT
BEGIN:VEVENT
DTSTART;TZID=UTC:20250520T190000
DTEND;TZID=UTC:20250520T210000
DTSTAMP:20260423T210646
CREATED:20250119T215122Z
LAST-MODIFIED:20250402T151418Z
UID:1560-1747767600-1747774800@nottinghamcivicsociety.org.uk
SUMMARY:Annual General Meeting\, followed by Wollaton:  Sale of the Century
DESCRIPTION:Graham Woodward commemorates the City’s purchase of Wollaton Hall and Park\, one hundred years ago.
URL:https://nottinghamcivicsociety.org.uk/event/annual-general-meeting-followed-by-wollaton-sale-of-the-century/
LOCATION:Mechanics Institute\, North Sherwood Street\, Nottingham\, United Kingdom
ATTACH;FMTTYPE=image/jpeg:https://nottinghamcivicsociety.org.uk/wp-content/uploads/2025/01/Wollaton-Hall-Northwest-frontage-4-scaled.jpg
END:VEVENT
BEGIN:VEVENT
DTSTART;TZID=UTC:20250415T193000
DTEND;TZID=UTC:20250415T210000
DTSTAMP:20260423T210646
CREATED:20250119T214842Z
LAST-MODIFIED:20250119T215337Z
UID:1557-1744745400-1744750800@nottinghamcivicsociety.org.uk
SUMMARY:The Ken Brand Lecture: Far and Near
DESCRIPTION:Nottingham-born architect Bill Taylor\, formerly of world-renowned Hopkins Architects\, looks back on architectural projects ranging far and wide and including our own two universities.
URL:https://nottinghamcivicsociety.org.uk/event/the-ken-brand-lecture-far-and-near/
LOCATION:Mechanics Institute\, North Sherwood Street\, Nottingham\, United Kingdom
ATTACH;FMTTYPE=image/jpeg:https://nottinghamcivicsociety.org.uk/wp-content/uploads/2025/01/Castle-Meadow-Road-HMRC-site-3-scaled.jpg
END:VEVENT
BEGIN:VEVENT
DTSTART;TZID=UTC:20250318T193000
DTEND;TZID=UTC:20250318T210000
DTSTAMP:20260423T210646
CREATED:20250119T214458Z
LAST-MODIFIED:20250119T215322Z
UID:1553-1742326200-1742331600@nottinghamcivicsociety.org.uk
SUMMARY:Nottinghamshire's Gardens
DESCRIPTION:With the approach of Spring Philip Jones takes us on a tour of our county’s renowned Gardens.
URL:https://nottinghamcivicsociety.org.uk/event/nottinghamshires-gardens/
LOCATION:Mechanics Institute\, North Sherwood Street\, Nottingham\, United Kingdom
ATTACH;FMTTYPE=image/jpeg:https://nottinghamcivicsociety.org.uk/wp-content/uploads/2025/01/Wollaton-Hall-Gardens-Camellia-House-1823-Grade-II-listed-cost-10000-7-scaled.jpg
END:VEVENT
BEGIN:VEVENT
DTSTART;TZID=UTC:20250218T073000
DTEND;TZID=UTC:20250218T210000
DTSTAMP:20260423T210646
CREATED:20250119T213853Z
LAST-MODIFIED:20250119T215303Z
UID:1550-1739863800-1739912400@nottinghamcivicsociety.org.uk
SUMMARY:Tales from the Caves:  Exploring Nottingham's Underground Stories
DESCRIPTION:Dr Chris King and Dr Charlotte May of Nottingham University explore the myth and reality Nottingham’s underground history.
URL:https://nottinghamcivicsociety.org.uk/event/tales-from-the-caves-exploring-nottinghams-underground-stories/
LOCATION:Mechanics Institute\, North Sherwood Street\, Nottingham\, United Kingdom
ATTACH;FMTTYPE=image/jpeg:https://nottinghamcivicsociety.org.uk/wp-content/uploads/2025/01/Brewhouse-Yard-1640-Grade-II-listed-2-scaled.jpg
END:VEVENT
BEGIN:VEVENT
DTSTART;TZID=UTC:20250121T193000
DTEND;TZID=UTC:20250121T210000
DTSTAMP:20260423T210646
CREATED:20250119T211920Z
LAST-MODIFIED:20250119T215932Z
UID:1542-1737487800-1737493200@nottinghamcivicsociety.org.uk
SUMMARY:At Your Service:  175 Years of Shopping at Boots
DESCRIPTION:Sophie Clapp\, Archivist with the Nottingham’s Boots Company\, takes us through the remarkable story of the company’s High Street success.
URL:https://nottinghamcivicsociety.org.uk/event/test/
LOCATION:Mechanics Institute\, North Sherwood Street\, Nottingham\, United Kingdom
ATTACH;FMTTYPE=image/jpeg:https://nottinghamcivicsociety.org.uk/wp-content/uploads/2025/01/Arkwright-Street-No.282-284-Boots-No.2-Store-and-Social-Club-now-a-pub-AN-Bromley-1905-Grade-II-listed-2.jpg
END:VEVENT
END:VCALENDAR